BEGIN:VCALENDAR
VERSION:2.0
PRODID:-//NetHub OLD - ECPv6.15.11//NONSGML v1.0//EN
CALSCALE:GREGORIAN
METHOD:PUBLISH
X-WR-CALNAME:NetHub OLD
X-ORIGINAL-URL:https://old.nethub.hr
X-WR-CALDESC:Događaji za NetHub OLD
REFRESH-INTERVAL;VALUE=DURATION:PT1H
X-Robots-Tag:noindex
X-PUBLISHED-TTL:PT1H
BEGIN:VTIMEZONE
TZID:Europe/Zagreb
BEGIN:DAYLIGHT
TZOFFSETFROM:+0100
TZOFFSETTO:+0200
TZNAME:CEST
DTSTART:20200329T010000
END:DAYLIGHT
BEGIN:STANDARD
TZOFFSETFROM:+0200
TZOFFSETTO:+0100
TZNAME:CET
DTSTART:20201025T010000
END:STANDARD
BEGIN:DAYLIGHT
TZOFFSETFROM:+0100
TZOFFSETTO:+0200
TZNAME:CEST
DTSTART:20210328T010000
END:DAYLIGHT
BEGIN:STANDARD
TZOFFSETFROM:+0200
TZOFFSETTO:+0100
TZNAME:CET
DTSTART:20211031T010000
END:STANDARD
BEGIN:DAYLIGHT
TZOFFSETFROM:+0100
TZOFFSETTO:+0200
TZNAME:CEST
DTSTART:20220327T010000
END:DAYLIGHT
BEGIN:STANDARD
TZOFFSETFROM:+0200
TZOFFSETTO:+0100
TZNAME:CET
DTSTART:20221030T010000
END:STANDARD
END:VTIMEZONE
BEGIN:VEVENT
DTSTART;TZID=Europe/Zagreb:20211216T113000
DTEND;TZID=Europe/Zagreb:20211216T130000
DTSTAMP:20260423T121102
CREATED:20211210T104912Z
LAST-MODIFIED:20211211T120429Z
UID:5901-1639654200-1639659600@old.nethub.hr
SUMMARY:HealthTech - razvoj i financiranje inovacija MSP-ova
DESCRIPTION:NetHub poduzetnički akcelerator za tehnologije u zdravstvu i Medicinski fakultet u Splitu\, u suradnji s ICT županijom i zajednicom Split Tech City\, u sklopu EU projekata „Razvoj poduzetničkog akceleratora za tehnologije u zdravstvu“ i „Razvoj\, unapređenje i provedba stručne prakse na Medicinskom fakultetu u Splitu“\, organiziraju događanje „HealthTech – razvoj i financiranje inovacija MSP-ova“. \nCilj događanja je upoznati IT sektor s mogućnostima financiranja inovacija malih i srednjih poduzeća u HealthTech-u sredstvima fondova EU. Direktor NetHub akceleratora\, Marko Mimica\, predstavit će prisutnima dostupne izvore bespovratnih sredstava za financiranje uvođenja i razvoja rješenja u digitalnom zdravstvu\, a načelnik Sektora za implementaciju i unapređenje informacijskih sustava pri Ministarstvu zdravstva Republike Hrvatske\, mr. sc. Hrvoje Belani\, opisat će trenutno stanje i mogućnosti razvoja digitalnog zdravstva u Republici Hrvatskoj. Događanje će zaključiti koordinatorica NetHub akceleratora\, Maja Čurković\, predstavljanjem programa studentske poduzetničke prakse koji se razvija na Sveučilištu u Splitu. \nDogađanje će se održati u četvrtak 16. prosinca 2021. u dvorani B104 Medicinskog fakulteta u Splitu (zgrada B)\, s početkom u 11:30\, u skladu s aktualnim preporukama Hrvatskog zavoda za javno zdravstvo o sprječavanju prijenosa bolesti COVID-19. \nBroj sudionika je ograničen\, stoga požurite i registrirajte se na sljedećoj poveznici. \n  \nDNEVNI RED \n\n\n\n11:30 – 11:45\nREGISTRACIJA SUDIONIKA\n\n\n11:45 – 11:55\nPOZDRAVNA OBRAĆANJA \n\n\n11:55 – 12:10\nHealthTech – razvoj i financiranje inovacija MSP-ova\nMarko Mimica\nNetHub poduzetnički akcelerator za razvoj tehnologija u zdravstvu\n\n\n12:10 – 12:25\nStanje i mogućnosti razvoja digitalnog zdravstva u RH\nmr. sc. Hrvoje Belani\nMinistarstvo zdravstva RH\n\n\n12:25 – 12:35\nRazvoj\, unapređenje i provedba stručne prakse na Medicinskom fakultetu u Splitu\nMaja Čurković\nNetHub poduzetnički akcelerator za razvoj tehnologija u zdravstvu\n\n\n12:35 – 12:50\nRASPRAVA\nMaja Čurković\nNethub poduzetnički akcelerator za razvoj tehnologija u zdravstvu\n\n\n12:50 \nUMREŽAVANJE
URL:https://old.nethub.hr/dogadjanje/healthtech-razvoj-i-financiranje-inovacija-msp-ova/
LOCATION:Medicinski fakultet u Splitu\, Šoltanska ul. 2\, Split
CATEGORIES:Događanja
ATTACH;FMTTYPE=image/png:https://old.nethub.hr/wp-content/uploads/2021/12/Web-banner-dogadanje-IT.png
END:VEVENT
BEGIN:VEVENT
DTSTART;TZID=Europe/Zagreb:20211214T110000
DTEND;TZID=Europe/Zagreb:20211214T123000
DTSTAMP:20260423T121102
CREATED:20211208T140200Z
LAST-MODIFIED:20211211T120402Z
UID:5865-1639479600-1639485000@old.nethub.hr
SUMMARY:Mogućnosti bespovratnog financiranja inovativnih tehnoloških rješenja u zdravstvu
DESCRIPTION:NetHub poduzetnički akcelerator za tehnologije u zdravstvu i Medicinski fakultet u Splitu\, u suradnji s ICT županijom\, u sklopu EU projekata „Razvoj poduzetničkog akceleratora za tehnologije u zdravstvu“ i „Razvoj\, unapređenje i provedba stručne prakse na Medicinskom fakultetu u Splitu“\, organiziraju događanje „Mogućnosti bespovratnog financiranja inovativnih tehnoloških rješenja u zdravstvu“. \nCilj događanja jest upoznati privatni zdravstveni sektor sa svim mogućnostima koje nudi bespovratno financiranje u području inovativnih tehnoloških rješenja u zdravstvu. Direktor NetHub akceleratora\, Marko Mimica\, predstavit će prisutnima dostupne izvore bespovratnih sredstava za financiranje uvođenja i razvoja rješenja u digitalnom zdravstvu; poduzetnik Karlo Sudarević\, predstavit će svoja iskustva u razvoju inovativne tehnologije u području 3D printanja u dentalnoj medicini; stručnjak u području senzorskih tehnologija i sustava\, izv. prof. dr. sc. Petar Šolić\, održat će predavanje na temu mogućnosti korištenja low-cost senzora u zdravstvu. Događanje će zaključiti koordinatorica NetHub akceleratora\, Maja Čurković\, predstavljanjem programa studentske poduzetničke prakse koji se razvija na Sveučilištu u Splitu. \nDogađanje će se održati u utorak 14. prosinca 2021. u konferencijskoj dvorani SPINIT Inkubatora Sveučilišta u Splitu\, Matoševa 56\, s početkom u 11 sati\, u skladu s aktualnim preporukama Hrvatskog zavoda za javno zdravstvo o sprječavanju prijenosa bolesti COVID-19. \nBroj sudionika je ograničen\, stoga požurite i registrirajte se na sljedećoj poveznici. \n  \nDNEVNI RED \n\n\n\n\n10:45 – 11:00 \n\n\nREGISTRACIJA SUDIONIKA \n\n\n\n11:00 – 11:10\nPOZDRAVNA OBRAĆANJA \n\n\n11:10 – 11:25\n\nDigitalno zdravstvo: mogućnosti financiranja\, uvođenja i razvoja   \nMarko Mimica\nNetHub poduzetnički akcelerator za razvoj tehnologija u zdravstvu \n\n\n\n11:25 – 11:40\nMogućnosti korištenja low-cost senzorskih sustava u zdravstvu \nizv. prof. dr. sc. Petar Šolić\nSveučilište u Splitu\, Fakultet elektrotehnike\, strojarstva i brodogradnje \n\n\n\n11:40 – 11:55\nRješenja u digitalnom zdravstvu: praktična iskustva \nKarlo Sudarević\, dr. med. dent\, spec. ortodoncije\nPoliklinika Fiziodent \n\n\n\n11:55 – 12:05\nRazvoj\, unapređenje i provedba stručne prakse na Medicinskom fakultetu u Splitu \nMaja Čurković\nNetHub poduzetnički akcelerator za razvoj tehnologija u zdravstvu \n\n\n\n12:05 – 12:20\nRASPRAVA \nMaja Čurković\nNetHub poduzetnički akcelerator za razvoj tehnologija u zdravstvu \n\n\n\n\n12:20 \n\n\nUMREŽAVANJE
URL:https://old.nethub.hr/dogadjanje/mogucnosti-bespovratnog-financiranja-inovativnih-tehnoloskih-rjesenja-u-zdravstvu/
ATTACH;FMTTYPE=image/png:https://old.nethub.hr/wp-content/uploads/2021/12/Web-banner-zdravstvena_ind.png
END:VEVENT
BEGIN:VEVENT
DTSTART;TZID=Europe/Zagreb:20211104T170000
DTEND;TZID=Europe/Zagreb:20211104T183000
DTSTAMP:20260423T121102
CREATED:20211014T174820Z
LAST-MODIFIED:20220131T112305Z
UID:5204-1636045200-1636050600@old.nethub.hr
SUMMARY:Od studenta do poduzetnika – Kako do uspješne karijere u HealthTechu
DESCRIPTION:Drage studentice i studenti\, \nMedicinski fakultet u Splitu\, Studentski Poduzetnički Inkubator i NetHub poduzetnički akcelerator za razvoj tehnologija u zdravstvu pozivaju vas na događanje „Od studenta do poduzetnika – Kako do uspješne karijere u HealthTechu“. \nCilj događanja jest upoznati vas s razvojem tehnologija u zdravstvu te svim mogućnostima koje nudi karijera u poduzetništvu. Na događanju će se predstaviti projekt „Razvoj\, unapređenje i provedba stručne prakse na Medicinskom fakultetu u Splitu“\, Studentski Poduzetnički Inkubator i NetHub poduzetnički akcelerator za razvoj tehnologija u zdravstvu. Također ćete imati priliku upoznati se s foundericom Enom Melvan\, pobjednicom druge generacije StartIT Akademije u organizaciji ICT Županije\, te njezinim startupom Metabelly. \nDogađanje će se održati 4. studenoga 2021. s početkom u 17:00 sati u amfiteatru Medicinskog fakulteta u Splitu. \nBroj sudionika je ograničen\, stoga požurite i registrirajte se na sljedećoj poveznici! \nDogađanje: Od studenta do poduzetnika – Kako do uspješne karijere u Health Techu (google.com) \nDnevni red događanja s pripadajućim temama predavanja i predavačima možete vidjeti u nastavku. \n  \n DNEVNI RED \n\n\n\n16:50 – 17:00\nREGISTRACIJA SUDIONIKA\n\n\n17:00 – 17:10\n  \nUVODNI POZDRAV I PREDSTAVLJANJE PROJEKTA „RAZVOJ\, UNAPREĐENJE I PROVEDBA STRUČNE PRAKSE NA MEDICINSKOM FAKULTETU U SPLITU“\n\n\nProf. dr. sc. Katarina Vukojević\n\n\nMedicinski fakultet u Splitu\n\n\n17:10 – 17:30\nŠTO JE HEALTH TECH I ZAŠTO RAZVIJATI HEALTH TECH STARTUP?  \n\n\nMarko Mimica\n\n\nNetHub poduzetnički akcelerator za razvoj tehnologija u zdravstvu\n\n\n17:30 – 17:45\nPREDSTAVLJANJE STUDENTSKOGA PODUZETNIČKOG INKUBATORA \n\n\nLana Ugrčić\n\n\nStudentski Poduzetnički Inkubator\n\n\n17:45 – 18:00\nMETABELLY – MOJA KARIJERA U PODUZETNIŠTVU\n\n\nEna Melvan\n\n\nMETABELLY\n\n\n18:00 – 18:30\nNETWORKING
URL:https://old.nethub.hr/dogadjanje/od-studenta-do-poduzetnika/
LOCATION:Sveučilište u Splitu\, Medicinski fakultet\, Šoltanska 2
ATTACH;FMTTYPE=image/png:https://old.nethub.hr/wp-content/uploads/2021/10/O-studenta-do-poduzetnika-Kako-do-uspjesne-karijere-u-health-techu-3.png
END:VEVENT
END:VCALENDAR